BEGIN:VCALENDAR
VERSION:2.0
PRODID:-//CDN Safety Training - ECPv5.14.1//NONSGML v1.0//EN
CALSCALE:GREGORIAN
METHOD:PUBLISH
X-WR-CALNAME:CDN Safety Training
X-ORIGINAL-URL:https://cdnsafetytraining.ca
X-WR-CALDESC:Events for CDN Safety Training
BEGIN:VTIMEZONE
TZID:UTC
BEGIN:STANDARD
TZOFFSETFROM:+0000
TZOFFSETTO:+0000
TZNAME:UTC
DTSTART:20210101T000000
END:STANDARD
END:VTIMEZONE
BEGIN:VEVENT
DTSTART;TZID=UTC:20210204T080000
DTEND;TZID=UTC:20210204T160000
DTSTAMP:20260419T191208
CREATED:20210127T191918Z
LAST-MODIFIED:20210127T191918Z
UID:1298-1612425600-1612454400@cdnsafetytraining.ca
SUMMARY:Public Training Session - Working at Heights
DESCRIPTION:
URL:https://cdnsafetytraining.ca/event/public-training-session-working-at-heights/
END:VEVENT
END:VCALENDAR