BEGIN:VCALENDAR
VERSION:2.0
PRODID:-//CDN Safety Training - ECPv5.14.1//NONSGML v1.0//EN
CALSCALE:GREGORIAN
METHOD:PUBLISH
X-WR-CALNAME:CDN Safety Training
X-ORIGINAL-URL:https://cdnsafetytraining.ca
X-WR-CALDESC:Events for CDN Safety Training
BEGIN:VTIMEZONE
TZID:America/Toronto
BEGIN:DAYLIGHT
TZOFFSETFROM:-0500
TZOFFSETTO:-0400
TZNAME:EDT
DTSTART:20220313T070000
END:DAYLIGHT
BEGIN:STANDARD
TZOFFSETFROM:-0400
TZOFFSETTO:-0500
TZNAME:EST
DTSTART:20221106T060000
END:STANDARD
END:VTIMEZONE
BEGIN:VEVENT
DTSTART;TZID=America/Toronto:20220201T080000
DTEND;TZID=America/Toronto:20220201T170000
DTSTAMP:20260425T193803
CREATED:20220109T144700Z
LAST-MODIFIED:20220109T144700Z
UID:2100-1643702400-1643734800@cdnsafetytraining.ca
SUMMARY:Private Training Session - Working at Heights
DESCRIPTION:
URL:https://cdnsafetytraining.ca/event/private-training-session-working-at-heights-18/
END:VEVENT
END:VCALENDAR