BEGIN:VCALENDAR
VERSION:2.0
PRODID:-//CDN Safety Training - ECPv5.14.1//NONSGML v1.0//EN
CALSCALE:GREGORIAN
METHOD:PUBLISH
X-WR-CALNAME:CDN Safety Training
X-ORIGINAL-URL:https://cdnsafetytraining.ca
X-WR-CALDESC:Events for CDN Safety Training
BEGIN:VTIMEZONE
TZID:America/Toronto
BEGIN:DAYLIGHT
TZOFFSETFROM:-0500
TZOFFSETTO:-0400
TZNAME:EDT
DTSTART:20220313T070000
END:DAYLIGHT
BEGIN:STANDARD
TZOFFSETFROM:-0400
TZOFFSETTO:-0500
TZNAME:EST
DTSTART:20221106T060000
END:STANDARD
END:VTIMEZONE
BEGIN:VEVENT
DTSTART;TZID=America/Toronto:20220126T080000
DTEND;TZID=America/Toronto:20220126T170000
DTSTAMP:20260419T091107
CREATED:20220109T144905Z
LAST-MODIFIED:20220109T144905Z
UID:2106-1643184000-1643216400@cdnsafetytraining.ca
SUMMARY:Private Training Session - Pallet & Forklift Narrow Aisle
DESCRIPTION:
URL:https://cdnsafetytraining.ca/event/private-training-session-pallet-forklift-narrow-aisle/
END:VEVENT
END:VCALENDAR