BEGIN:VCALENDAR
VERSION:2.0
PRODID:-//CDN Safety Training - ECPv5.14.1//NONSGML v1.0//EN
CALSCALE:GREGORIAN
METHOD:PUBLISH
X-WR-CALNAME:CDN Safety Training
X-ORIGINAL-URL:https://cdnsafetytraining.ca
X-WR-CALDESC:Events for CDN Safety Training
BEGIN:VTIMEZONE
TZID:America/Toronto
BEGIN:DAYLIGHT
TZOFFSETFROM:-0500
TZOFFSETTO:-0400
TZNAME:EDT
DTSTART:20210314T070000
END:DAYLIGHT
BEGIN:STANDARD
TZOFFSETFROM:-0400
TZOFFSETTO:-0500
TZNAME:EST
DTSTART:20211107T060000
END:STANDARD
END:VTIMEZONE
BEGIN:VEVENT
DTSTART;TZID=America/Toronto:20211021T080000
DTEND;TZID=America/Toronto:20211021T120000
DTSTAMP:20260420T045502
CREATED:20211119T093650Z
LAST-MODIFIED:20211119T093650Z
UID:1948-1634803200-1634817600@cdnsafetytraining.ca
SUMMARY:Private Training Session - Forklift Counterbalance
DESCRIPTION:
URL:https://cdnsafetytraining.ca/event/private-training-session-forklift-counterbalance-13/
END:VEVENT
END:VCALENDAR