BEGIN:VCALENDAR
VERSION:2.0
PRODID:-//CDN Safety Training - ECPv5.14.1//NONSGML v1.0//EN
CALSCALE:GREGORIAN
METHOD:PUBLISH
X-WR-CALNAME:CDN Safety Training
X-ORIGINAL-URL:https://cdnsafetytraining.ca
X-WR-CALDESC:Events for CDN Safety Training
BEGIN:VTIMEZONE
TZID:America/Toronto
BEGIN:DAYLIGHT
TZOFFSETFROM:-0500
TZOFFSETTO:-0400
TZNAME:EDT
DTSTART:20220313T070000
END:DAYLIGHT
BEGIN:STANDARD
TZOFFSETFROM:-0400
TZOFFSETTO:-0500
TZNAME:EST
DTSTART:20221106T060000
END:STANDARD
END:VTIMEZONE
BEGIN:VEVENT
DTSTART;TZID=America/Toronto:20220426T080000
DTEND;TZID=America/Toronto:20220426T170000
DTSTAMP:20260420T075917
CREATED:20220327T192944Z
LAST-MODIFIED:20220327T192944Z
UID:2259-1650960000-1650992400@cdnsafetytraining.ca
SUMMARY:Private Training Session - 300-1 Bulk Truck\, 100-9 Tank and Pressure Relief Inspection\, 100-2 Auto Fill
DESCRIPTION:
URL:https://cdnsafetytraining.ca/event/private-training-session-300-1-bulk-truck-100-9-tank-and-pressure-relief-inspection-100-2-auto-fill/
END:VEVENT
END:VCALENDAR