BEGIN:VCALENDAR
VERSION:2.0
PRODID:-//CDN Safety Training - ECPv5.14.1//NONSGML v1.0//EN
CALSCALE:GREGORIAN
METHOD:PUBLISH
X-WR-CALNAME:CDN Safety Training
X-ORIGINAL-URL:https://cdnsafetytraining.ca
X-WR-CALDESC:Events for CDN Safety Training
BEGIN:VTIMEZONE
TZID:America/Toronto
BEGIN:DAYLIGHT
TZOFFSETFROM:-0500
TZOFFSETTO:-0400
TZNAME:EDT
DTSTART:20220313T070000
END:DAYLIGHT
BEGIN:STANDARD
TZOFFSETFROM:-0400
TZOFFSETTO:-0500
TZNAME:EST
DTSTART:20221106T060000
END:STANDARD
END:VTIMEZONE
BEGIN:VEVENT
DTSTART;TZID=America/Toronto:20220510T080000
DTEND;TZID=America/Toronto:20220510T170000
DTSTAMP:20260425T113738
CREATED:20220327T193504Z
LAST-MODIFIED:20220327T193504Z
UID:2273-1652169600-1652202000@cdnsafetytraining.ca
SUMMARY:Private Training Session - 100-9 Tank and Pressure Relief Inspection and 400-1&2
DESCRIPTION:
URL:https://cdnsafetytraining.ca/event/private-training-session-100-9-tank-and-pressure-relief-inspection-and-400-12/
END:VEVENT
END:VCALENDAR